BEGIN:VCALENDAR
VERSION:2.0
PRODID:Events Booking
BEGIN:VEVENT
UID:69e7867821809
SUMMARY:First Aid at Work Requal (2 day) -06/07/2026 & 09/07/2026
DESCRIPTION:
LOCATION:Wolverton Rd\, Warwick\, Warwickshire CV35\, UK
DTSTART:20260706T090000Z
DTEND:20260709T163000Z
DTSTAMP:20260421T151520Z
ORGANIZER;CN=AC First Aid and Training:MAILTO:bookings@acfirstaid.co.uk
GEO:52.267977;-1.674364
X-APPLE-STRUCTURED-LOCATION;VALUE=URI;X-ADDRESS=Wolverton Rd\, Warwick\, Wa
 rwickshire CV35\, UK;X-APPLE-RADIUS=72;X-TITLE=Norton Lindsey Village Hall
 :52.267977;-1.674364
END:VEVENT
END:VCALENDAR