BEGIN:VCALENDAR
VERSION:2.0
PRODID:Events Booking
BEGIN:VEVENT
UID:69e7817335a27
SUMMARY:First Aid at Work (Blended) - 20/05/2026 & 21/05/2026
DESCRIPTION:This course requires pre-attendance study prior to the two days
  of face to face practical teaching and assessment.&nbsp\; You will be enr
 olled on the Qualsafe Awards e-learning programme\, all aspects must be co
 mpleted before attending day one of the course.&nbsp\; Support is availabl
 e during your study process via email or telephone.&nbsp\; When you attend
  the two days of practical teaching and assessment\, you will be expected 
 to be familiar with all of the subjects you are asked to study prior to at
 tending.
LOCATION:Bridgeway\, Stratford-upon-Avon\, Warwickshire CV37 6YR\, UK
DTSTART:20260520T093000Z
DTEND:20260521T170000Z
DTSTAMP:20260421T145355Z
ORGANIZER;CN=AC First Aid and Training:MAILTO:bookings@acfirstaid.co.uk
GEO:52.193119;-1.701629
X-APPLE-STRUCTURED-LOCATION;VALUE=URI;X-ADDRESS=Bridgeway\, Stratford-upon-
 Avon\, Warwickshire CV37 6YR\, UK;X-APPLE-RADIUS=72;X-TITLE=Crowne Plaza\,
  Stratford-upon-Avon:52.193119;-1.701629
END:VEVENT
END:VCALENDAR