BEGIN:VCALENDAR
VERSION:2.0
PRODID:Events Booking
BEGIN:VEVENT
UID:69e786548b6ae
SUMMARY:Emergency First Aid at Work (1 day) - 08/06/26
DESCRIPTION:
LOCATION:Bridgeway\, Stratford-upon-Avon\, Warwickshire CV37 6YR\, UK
DTSTART:20260608T093000Z
DTEND:20260608T170000Z
DTSTAMP:20260421T151444Z
ORGANIZER;CN=AC First Aid and Training:MAILTO:bookings@acfirstaid.co.uk
GEO:52.193119;-1.701629
X-APPLE-STRUCTURED-LOCATION;VALUE=URI;X-ADDRESS=Bridgeway\, Stratford-upon-
 Avon\, Warwickshire CV37 6YR\, UK;X-APPLE-RADIUS=72;X-TITLE=Crowne Plaza\,
  Stratford-upon-Avon:52.193119;-1.701629
END:VEVENT
END:VCALENDAR